BEGIN:VCALENDAR
VERSION:2.0
PRODID:-//Alo Horses™ - ECPv6.15.20//NONSGML v1.0//EN
CALSCALE:GREGORIAN
METHOD:PUBLISH
X-ORIGINAL-URL:https://www.alohorses.com
X-WR-CALDESC:Events for Alo Horses™
REFRESH-INTERVAL;VALUE=DURATION:PT1H
X-Robots-Tag:noindex
X-PUBLISHED-TTL:PT1H
BEGIN:VTIMEZONE
TZID:America/Los_Angeles
BEGIN:DAYLIGHT
TZOFFSETFROM:-0800
TZOFFSETTO:-0700
TZNAME:PDT
DTSTART:20250309T100000
END:DAYLIGHT
BEGIN:STANDARD
TZOFFSETFROM:-0700
TZOFFSETTO:-0800
TZNAME:PST
DTSTART:20251102T090000
END:STANDARD
BEGIN:DAYLIGHT
TZOFFSETFROM:-0800
TZOFFSETTO:-0700
TZNAME:PDT
DTSTART:20260308T100000
END:DAYLIGHT
BEGIN:STANDARD
TZOFFSETFROM:-0700
TZOFFSETTO:-0800
TZNAME:PST
DTSTART:20261101T090000
END:STANDARD
BEGIN:DAYLIGHT
TZOFFSETFROM:-0800
TZOFFSETTO:-0700
TZNAME:PDT
DTSTART:20270314T100000
END:DAYLIGHT
BEGIN:STANDARD
TZOFFSETFROM:-0700
TZOFFSETTO:-0800
TZNAME:PST
DTSTART:20271107T090000
END:STANDARD
END:VTIMEZONE
BEGIN:VEVENT
DTSTART;TZID=America/Los_Angeles:20260606T090000
DTEND;TZID=America/Los_Angeles:20260606T110000
DTSTAMP:20260420T214910
CREATED:20260310T051343Z
LAST-MODIFIED:20260310T051347Z
UID:3109-1780736400-1780743600@www.alohorses.com
SUMMARY:"Equine Guided Mindfulness" small group session
DESCRIPTION:Equine Gestalt Coaching small group session in Sunol\, CA
URL:https://www.alohorses.com/event/equine-guided-mindfulness-small-group-session-57/
CATEGORIES:EGC session
END:VEVENT
BEGIN:VEVENT
DTSTART;TZID=America/Los_Angeles:20260613T090000
DTEND;TZID=America/Los_Angeles:20260613T110000
DTSTAMP:20260420T214910
CREATED:20260310T050641Z
LAST-MODIFIED:20260310T050641Z
UID:3095-1781341200-1781348400@www.alohorses.com
SUMMARY:"Journey Within" closed group session
DESCRIPTION:On-Going Group – Equine Gestalt Coaching in a closed group format at Sunol ranch \nTo join\, contact anna@alohorses.com
URL:https://www.alohorses.com/event/journey-within-closed-group-session-123/
CATEGORIES:EGC session
END:VEVENT
BEGIN:VEVENT
DTSTART;TZID=America/Los_Angeles:20260613T120000
DTEND;TZID=America/Los_Angeles:20260613T140000
DTSTAMP:20260420T214910
CREATED:20260310T050413Z
LAST-MODIFIED:20260310T050413Z
UID:3089-1781352000-1781359200@www.alohorses.com
SUMMARY:"Journey Within" closed group session
DESCRIPTION:On-Going Group – Equine Gestalt Coaching in a closed group format at Sunol ranch \nTo join\, contact anna@alohorses.com
URL:https://www.alohorses.com/event/journey-within-closed-group-session-120/
CATEGORIES:EGC session
END:VEVENT
BEGIN:VEVENT
DTSTART;TZID=America/Los_Angeles:20260614T090000
DTEND;TZID=America/Los_Angeles:20260614T110000
DTSTAMP:20260420T214910
CREATED:20260310T050817Z
LAST-MODIFIED:20260310T050817Z
UID:3101-1781427600-1781434800@www.alohorses.com
SUMMARY:"Journey Within" closed group session
DESCRIPTION:On-Going Group – Equine Gestalt Coaching in a closed group format at Sunol ranch \nTo join\, contact anna@alohorses.com
URL:https://www.alohorses.com/event/journey-within-closed-group-session-126/
CATEGORIES:EGC session
END:VEVENT
END:VCALENDAR